BEGIN:VCALENDAR
VERSION:2.0
PRODID:-//wp-events-plugin.com//7.2.3.1//EN
TZID:Europe/Berlin
X-WR-TIMEZONE:Europe/Berlin
BEGIN:VEVENT
UID:2@lionspridegermany.de
DTSTART;TZID=Europe/Berlin:20241128T180000
DTEND;TZID=Europe/Berlin:20241128T233000
DTSTAMP:20240929T114735Z
URL:https://lionspridegermany.de/events/watchparty-lions-pride-germany-x-g
 erman-birdgang/
SUMMARY:Watchparty | Lions Pride Germany x German Birdgang
DESCRIPTION:
LOCATION:YOURS Sports Bar Wiesbaden\, Wilhelmstraße 36-38\, Wiesbaden\, He
 ssen\, 65183\, Deutschland
X-APPLE-STRUCTURED-LOCATION;VALUE=URI;X-ADDRESS=Wilhelmstraße 36-38\, Wies
 baden\, Hessen\, 65183\, Deutschland;X-APPLE-RADIUS=100;X-TITLE=YOURS Spor
 ts Bar Wiesbaden:geo:0,0
END:VEVENT
BEGIN:VTIMEZONE
TZID:Europe/Berlin
X-LIC-LOCATION:Europe/Berlin
BEGIN:STANDARD
DTSTART:20241027T020000
TZOFFSETFROM:+0200
TZOFFSETTO:+0100
TZNAME:CET
END:STANDARD
END:VTIMEZONE
END:VCALENDAR